BEGIN:VCALENDAR
VERSION:2.0
PRODID:-//DEIN TRADITIONSGYMNASIUM - ECPv6.15.17//NONSGML v1.0//EN
CALSCALE:GREGORIAN
METHOD:PUBLISH
X-WR-CALNAME:DEIN TRADITIONSGYMNASIUM
X-ORIGINAL-URL:https://www.duden-gymn.de
X-WR-CALDESC:Veranstaltungen für DEIN TRADITIONSGYMNASIUM
REFRESH-INTERVAL;VALUE=DURATION:PT1H
X-Robots-Tag:noindex
X-PUBLISHED-TTL:PT1H
BEGIN:VTIMEZONE
TZID:Europe/Berlin
BEGIN:DAYLIGHT
TZOFFSETFROM:+0100
TZOFFSETTO:+0200
TZNAME:CEST
DTSTART:20250330T010000
END:DAYLIGHT
BEGIN:STANDARD
TZOFFSETFROM:+0200
TZOFFSETTO:+0100
TZNAME:CET
DTSTART:20251026T010000
END:STANDARD
BEGIN:DAYLIGHT
TZOFFSETFROM:+0100
TZOFFSETTO:+0200
TZNAME:CEST
DTSTART:20260329T010000
END:DAYLIGHT
BEGIN:STANDARD
TZOFFSETFROM:+0200
TZOFFSETTO:+0100
TZNAME:CET
DTSTART:20261025T010000
END:STANDARD
BEGIN:DAYLIGHT
TZOFFSETFROM:+0100
TZOFFSETTO:+0200
TZNAME:CEST
DTSTART:20270328T010000
END:DAYLIGHT
BEGIN:STANDARD
TZOFFSETFROM:+0200
TZOFFSETTO:+0100
TZNAME:CET
DTSTART:20271031T010000
END:STANDARD
END:VTIMEZONE
BEGIN:VEVENT
DTSTART;VALUE=DATE:20260302
DTEND;VALUE=DATE:20260307
DTSTAMP:20260420T145328
CREATED:20260225T192744Z
LAST-MODIFIED:20260225T192744Z
UID:11207-1772409600-1772841599@www.duden-gymn.de
SUMMARY:Probeunterricht für die Aufnahme am Gymnasium
DESCRIPTION:
URL:https://www.duden-gymn.de/event/probeunterricht-fuer-die-aufnahme-am-gymnasium/
END:VEVENT
BEGIN:VEVENT
DTSTART;VALUE=DATE:20260303
DTEND;VALUE=DATE:20260304
DTSTAMP:20260420T145328
CREATED:20260225T192913Z
LAST-MODIFIED:20260225T192913Z
UID:11209-1772496000-1772582399@www.duden-gymn.de
SUMMARY:Kompetenztest Englisch - Klasse 8
DESCRIPTION:Der Kompetenztest in Englisch findet ab dem 03.03.2026 für die Klassenstufe 8 statt.
URL:https://www.duden-gymn.de/event/kompetenztest-englisch-klasse-8-2/
END:VEVENT
BEGIN:VEVENT
DTSTART;VALUE=DATE:20260305
DTEND;VALUE=DATE:20260306
DTSTAMP:20260420T145328
CREATED:20260225T193024Z
LAST-MODIFIED:20260225T193024Z
UID:11211-1772668800-1772755199@www.duden-gymn.de
SUMMARY:Kompetenztest Mathematik - Klasse 8
DESCRIPTION:Der Kompetenztest in Mathematik findet ab dem 05.03.2026 für die Klassenstufe 8 statt.
URL:https://www.duden-gymn.de/event/kompetenztest-mathematik-klasse-8-2/
END:VEVENT
BEGIN:VEVENT
DTSTART;VALUE=DATE:20260307
DTEND;VALUE=DATE:20260308
DTSTAMP:20260420T145328
CREATED:20260127T093921Z
LAST-MODIFIED:20260127T093921Z
UID:11172-1772841600-1772927999@www.duden-gymn.de
SUMMARY:Schnuppertag
DESCRIPTION:
URL:https://www.duden-gymn.de/event/schnuppertag/
END:VEVENT
BEGIN:VEVENT
DTSTART;VALUE=DATE:20260311
DTEND;VALUE=DATE:20260312
DTSTAMP:20260420T145328
CREATED:20260225T193124Z
LAST-MODIFIED:20260225T193124Z
UID:11213-1773187200-1773273599@www.duden-gymn.de
SUMMARY:Kompetenztest Deutsch - Klasse 8
DESCRIPTION:Der Kompetenztest in Deutsch findet ab dem 11.03.2026 für die Klassenstufe 8 statt.
URL:https://www.duden-gymn.de/event/kompetenztest-deutsch-klasse-8/
END:VEVENT
BEGIN:VEVENT
DTSTART;VALUE=DATE:20260312
DTEND;VALUE=DATE:20260313
DTSTAMP:20260420T145328
CREATED:20260225T193243Z
LAST-MODIFIED:20260225T193243Z
UID:11215-1773273600-1773359999@www.duden-gymn.de
SUMMARY:Kompetenztest Englisch - Klasse 6
DESCRIPTION:Der Kompetenztest in Englisch findet ab dem 12.03.2026 für die Klassenstufe 6 statt.
URL:https://www.duden-gymn.de/event/kompetenztest-englisch-klasse-6/
END:VEVENT
BEGIN:VEVENT
DTSTART;VALUE=DATE:20260315
DTEND;VALUE=DATE:20260323
DTSTAMP:20260420T145328
CREATED:20260225T195248Z
LAST-MODIFIED:20260225T195248Z
UID:11221-1773532800-1774223999@www.duden-gymn.de
SUMMARY:Besuch der Parnerschule aus Rueill-Malmaison bei uns
DESCRIPTION:
URL:https://www.duden-gymn.de/event/besuch-der-parnerschule-aus-rueill-malmaison-bei-uns/
END:VEVENT
BEGIN:VEVENT
DTSTART;VALUE=DATE:20260316
DTEND;VALUE=DATE:20260322
DTSTAMP:20260420T145328
CREATED:20260225T195156Z
LAST-MODIFIED:20260225T195156Z
UID:11219-1773619200-1774137599@www.duden-gymn.de
SUMMARY:Anmeldewoche Gymnasium für Schuljahr 2026/27
DESCRIPTION:
URL:https://www.duden-gymn.de/event/anmeldewoche-gymnasium-fuer-schuljahr-2026-27/
END:VEVENT
BEGIN:VEVENT
DTSTART;TZID=Europe/Berlin:20260318T075000
DTEND;TZID=Europe/Berlin:20260318T151500
DTSTAMP:20260420T145328
CREATED:20260225T195355Z
LAST-MODIFIED:20260225T195355Z
UID:11223-1773820200-1773846900@www.duden-gymn.de
SUMMARY:BiLi-Projektunterricht ge 10a/b
DESCRIPTION:
URL:https://www.duden-gymn.de/event/bili-projektunterricht-ge-10a-b/
END:VEVENT
BEGIN:VEVENT
DTSTART;VALUE=DATE:20260319
DTEND;VALUE=DATE:20260320
DTSTAMP:20260420T145328
CREATED:20260225T195450Z
LAST-MODIFIED:20260225T195450Z
UID:11225-1773878400-1773964799@www.duden-gymn.de
SUMMARY:Exkursion Buchmesse A27 im Fach Deutsch
DESCRIPTION:
URL:https://www.duden-gymn.de/event/exkursion-buchmesse-a27-im-fach-deutsch/
END:VEVENT
BEGIN:VEVENT
DTSTART;VALUE=DATE:20260319
DTEND;VALUE=DATE:20260320
DTSTAMP:20260420T145328
CREATED:20260225T195544Z
LAST-MODIFIED:20260225T195544Z
UID:11227-1773878400-1773964799@www.duden-gymn.de
SUMMARY:Mathe-Wettbewerb "Känguru" für Klasse 5/6
DESCRIPTION:
URL:https://www.duden-gymn.de/event/mathe-wettbewerb-kaenguru-fuer-klasse-5-6/
END:VEVENT
BEGIN:VEVENT
DTSTART;VALUE=DATE:20260321
DTEND;VALUE=DATE:20260322
DTSTAMP:20260420T145328
CREATED:20260225T195627Z
LAST-MODIFIED:20260225T195627Z
UID:11229-1774051200-1774137599@www.duden-gymn.de
SUMMARY:Hallen-Wettkampf SOK Leichtathletik
DESCRIPTION:
URL:https://www.duden-gymn.de/event/hallen-wettkampf-sok-leichtathletik/
END:VEVENT
BEGIN:VEVENT
DTSTART;VALUE=DATE:20260322
DTEND;VALUE=DATE:20260328
DTSTAMP:20260420T145328
CREATED:20260225T195836Z
LAST-MODIFIED:20260225T195836Z
UID:11235-1774137600-1774655999@www.duden-gymn.de
SUMMARY:Exkursion London Klasse 9
DESCRIPTION:
URL:https://www.duden-gymn.de/event/exkursion-london-klasse-9/
END:VEVENT
BEGIN:VEVENT
DTSTART;VALUE=DATE:20260323
DTEND;VALUE=DATE:20260324
DTSTAMP:20260420T145328
CREATED:20260225T195752Z
LAST-MODIFIED:20260225T195752Z
UID:11233-1774224000-1774310399@www.duden-gymn.de
SUMMARY:Medienprojekt Klasse 6
DESCRIPTION:
URL:https://www.duden-gymn.de/event/medienprojekt-klasse-6/
END:VEVENT
BEGIN:VEVENT
DTSTART;VALUE=DATE:20260325
DTEND;VALUE=DATE:20260326
DTSTAMP:20260420T145328
CREATED:20260225T195936Z
LAST-MODIFIED:20260225T195953Z
UID:11237-1774396800-1774483199@www.duden-gymn.de
SUMMARY:Exkursion "Tag der Pharmazie" in Jena (Chemie-Kurse A26)
DESCRIPTION:
URL:https://www.duden-gymn.de/event/exkursion-tag-der-pharmazie-in-jena-chemie-kurse-a26/
END:VEVENT
BEGIN:VEVENT
DTSTART;VALUE=DATE:20260326
DTEND;VALUE=DATE:20260327
DTSTAMP:20260420T145328
CREATED:20260225T200027Z
LAST-MODIFIED:20260225T200027Z
UID:11239-1774483200-1774569599@www.duden-gymn.de
SUMMARY:Sportwettkampf
DESCRIPTION:
URL:https://www.duden-gymn.de/event/sportwettkampf/
END:VEVENT
BEGIN:VEVENT
DTSTART;VALUE=DATE:20260327
DTEND;VALUE=DATE:20260328
DTSTAMP:20260420T145328
CREATED:20260203T071433Z
LAST-MODIFIED:20260203T071433Z
UID:11186-1774569600-1774655999@www.duden-gymn.de
SUMMARY:Schulfest
DESCRIPTION:Wir laden Sie sehr herzlich zu unserem Schulfest am 27.03.2026 ein.
URL:https://www.duden-gymn.de/event/schulfest/
END:VEVENT
END:VCALENDAR