BEGIN:VCALENDAR
VERSION:2.0
PRODID:-//DEIN TRADITIONSGYMNASIUM - ECPv6.15.17//NONSGML v1.0//EN
CALSCALE:GREGORIAN
METHOD:PUBLISH
X-WR-CALNAME:DEIN TRADITIONSGYMNASIUM
X-ORIGINAL-URL:https://www.duden-gymn.de
X-WR-CALDESC:Veranstaltungen für DEIN TRADITIONSGYMNASIUM
REFRESH-INTERVAL;VALUE=DURATION:PT1H
X-Robots-Tag:noindex
X-PUBLISHED-TTL:PT1H
BEGIN:VTIMEZONE
TZID:Europe/Berlin
BEGIN:DAYLIGHT
TZOFFSETFROM:+0100
TZOFFSETTO:+0200
TZNAME:CEST
DTSTART:20240331T010000
END:DAYLIGHT
BEGIN:STANDARD
TZOFFSETFROM:+0200
TZOFFSETTO:+0100
TZNAME:CET
DTSTART:20241027T010000
END:STANDARD
BEGIN:DAYLIGHT
TZOFFSETFROM:+0100
TZOFFSETTO:+0200
TZNAME:CEST
DTSTART:20250330T010000
END:DAYLIGHT
BEGIN:STANDARD
TZOFFSETFROM:+0200
TZOFFSETTO:+0100
TZNAME:CET
DTSTART:20251026T010000
END:STANDARD
BEGIN:DAYLIGHT
TZOFFSETFROM:+0100
TZOFFSETTO:+0200
TZNAME:CEST
DTSTART:20260329T010000
END:DAYLIGHT
BEGIN:STANDARD
TZOFFSETFROM:+0200
TZOFFSETTO:+0100
TZNAME:CET
DTSTART:20261025T010000
END:STANDARD
END:VTIMEZONE
BEGIN:VEVENT
DTSTART;VALUE=DATE:20251201
DTEND;VALUE=DATE:20251202
DTSTAMP:20260420T192258
CREATED:20251002T111916Z
LAST-MODIFIED:20251002T111916Z
UID:11157-1764547200-1764633599@www.duden-gymn.de
SUMMARY:Schulinterner Feiertag
DESCRIPTION:
URL:https://www.duden-gymn.de/event/schulinterner-feiertag/
END:VEVENT
BEGIN:VEVENT
DTSTART;VALUE=DATE:20251205
DTEND;VALUE=DATE:20251206
DTSTAMP:20260420T192258
CREATED:20251002T112043Z
LAST-MODIFIED:20251002T112043Z
UID:11159-1764892800-1764979199@www.duden-gymn.de
SUMMARY:Ende 12/I (Zeugnisausgabe)
DESCRIPTION:
URL:https://www.duden-gymn.de/event/ende-12-i-zeugnisausgabe/
END:VEVENT
BEGIN:VEVENT
DTSTART;VALUE=DATE:20251208
DTEND;VALUE=DATE:20251209
DTSTAMP:20260420T192258
CREATED:20251002T112244Z
LAST-MODIFIED:20251002T112244Z
UID:11161-1765152000-1765238399@www.duden-gymn.de
SUMMARY:Beginn des Kurshalbjahres 12/2
DESCRIPTION:
URL:https://www.duden-gymn.de/event/beginn-des-kurshalbjahres-12-2-2/
END:VEVENT
BEGIN:VEVENT
DTSTART;VALUE=DATE:20251210
DTEND;VALUE=DATE:20251211
DTSTAMP:20260420T192258
CREATED:20251002T112555Z
LAST-MODIFIED:20251002T112555Z
UID:11163-1765324800-1765411199@www.duden-gymn.de
SUMMARY:Weihnachtskonzert
DESCRIPTION:
URL:https://www.duden-gymn.de/event/weihnachtskonzert-2/
END:VEVENT
END:VCALENDAR