BEGIN:VCALENDAR
VERSION:2.0
PRODID:-//DEIN TRADITIONSGYMNASIUM - ECPv6.15.17//NONSGML v1.0//EN
CALSCALE:GREGORIAN
METHOD:PUBLISH
X-WR-CALNAME:DEIN TRADITIONSGYMNASIUM
X-ORIGINAL-URL:https://www.duden-gymn.de
X-WR-CALDESC:Veranstaltungen für DEIN TRADITIONSGYMNASIUM
REFRESH-INTERVAL;VALUE=DURATION:PT1H
X-Robots-Tag:noindex
X-PUBLISHED-TTL:PT1H
BEGIN:VTIMEZONE
TZID:Europe/Berlin
BEGIN:DAYLIGHT
TZOFFSETFROM:+0100
TZOFFSETTO:+0200
TZNAME:CEST
DTSTART:20240331T010000
END:DAYLIGHT
BEGIN:STANDARD
TZOFFSETFROM:+0200
TZOFFSETTO:+0100
TZNAME:CET
DTSTART:20241027T010000
END:STANDARD
BEGIN:DAYLIGHT
TZOFFSETFROM:+0100
TZOFFSETTO:+0200
TZNAME:CEST
DTSTART:20250330T010000
END:DAYLIGHT
BEGIN:STANDARD
TZOFFSETFROM:+0200
TZOFFSETTO:+0100
TZNAME:CET
DTSTART:20251026T010000
END:STANDARD
BEGIN:DAYLIGHT
TZOFFSETFROM:+0100
TZOFFSETTO:+0200
TZNAME:CEST
DTSTART:20260329T010000
END:DAYLIGHT
BEGIN:STANDARD
TZOFFSETFROM:+0200
TZOFFSETTO:+0100
TZNAME:CET
DTSTART:20261025T010000
END:STANDARD
END:VTIMEZONE
BEGIN:VEVENT
DTSTART;VALUE=DATE:20251118
DTEND;VALUE=DATE:20251119
DTSTAMP:20260420T210433
CREATED:20251002T111515Z
LAST-MODIFIED:20251002T111515Z
UID:11153-1763424000-1763510399@www.duden-gymn.de
SUMMARY:Lehrersprechtag
DESCRIPTION:
URL:https://www.duden-gymn.de/event/lehrersprechtag-2/
END:VEVENT
BEGIN:VEVENT
DTSTART;VALUE=DATE:20251130
DTEND;VALUE=DATE:20251201
DTSTAMP:20260420T210433
CREATED:20251002T111640Z
LAST-MODIFIED:20251002T111640Z
UID:11155-1764460800-1764547199@www.duden-gymn.de
SUMMARY:Anmeldeschluss "Jugend forscht"
DESCRIPTION:
URL:https://www.duden-gymn.de/event/anmeldeschluss-jugend-forscht/
END:VEVENT
END:VCALENDAR