BEGIN:VCALENDAR
VERSION:2.0
PRODID:-//DEIN TRADITIONSGYMNASIUM - ECPv6.15.17//NONSGML v1.0//EN
CALSCALE:GREGORIAN
METHOD:PUBLISH
X-WR-CALNAME:DEIN TRADITIONSGYMNASIUM
X-ORIGINAL-URL:https://www.duden-gymn.de
X-WR-CALDESC:Veranstaltungen für DEIN TRADITIONSGYMNASIUM
REFRESH-INTERVAL;VALUE=DURATION:PT1H
X-Robots-Tag:noindex
X-PUBLISHED-TTL:PT1H
BEGIN:VTIMEZONE
TZID:Europe/Berlin
BEGIN:DAYLIGHT
TZOFFSETFROM:+0100
TZOFFSETTO:+0200
TZNAME:CEST
DTSTART:20240331T010000
END:DAYLIGHT
BEGIN:STANDARD
TZOFFSETFROM:+0200
TZOFFSETTO:+0100
TZNAME:CET
DTSTART:20241027T010000
END:STANDARD
BEGIN:DAYLIGHT
TZOFFSETFROM:+0100
TZOFFSETTO:+0200
TZNAME:CEST
DTSTART:20250330T010000
END:DAYLIGHT
BEGIN:STANDARD
TZOFFSETFROM:+0200
TZOFFSETTO:+0100
TZNAME:CET
DTSTART:20251026T010000
END:STANDARD
BEGIN:DAYLIGHT
TZOFFSETFROM:+0100
TZOFFSETTO:+0200
TZNAME:CEST
DTSTART:20260329T010000
END:DAYLIGHT
BEGIN:STANDARD
TZOFFSETFROM:+0200
TZOFFSETTO:+0100
TZNAME:CET
DTSTART:20261025T010000
END:STANDARD
END:VTIMEZONE
BEGIN:VEVENT
DTSTART;VALUE=DATE:20250302
DTEND;VALUE=DATE:20250309
DTSTAMP:20260423T052417
CREATED:20250312T104000Z
LAST-MODIFIED:20250312T104000Z
UID:10552-1740873600-1741478399@www.duden-gymn.de
SUMMARY:Sprachexkursion London
DESCRIPTION:Wir wünschen den Schülern der Klassenstufe 9\, 10 und 11 eine rundum gelingende und erlebnisreiche Sprachexkursion!
URL:https://www.duden-gymn.de/event/sprachexkursion-london/
END:VEVENT
BEGIN:VEVENT
DTSTART;VALUE=DATE:20250303
DTEND;VALUE=DATE:20250304
DTSTAMP:20260423T052417
CREATED:20250312T104059Z
LAST-MODIFIED:20250312T104114Z
UID:10554-1740960000-1741046399@www.duden-gymn.de
SUMMARY:Anmeldewoche am Gymnasium für unsere Neuzugänge
DESCRIPTION:
URL:https://www.duden-gymn.de/event/anmeldewoche-am-gymnasium-fuer-unsere-neuzugaenge/
END:VEVENT
BEGIN:VEVENT
DTSTART;VALUE=DATE:20250310
DTEND;VALUE=DATE:20250315
DTSTAMP:20260423T052417
CREATED:20250312T104305Z
LAST-MODIFIED:20250312T104305Z
UID:10556-1741564800-1741996799@www.duden-gymn.de
SUMMARY:Betriebspraktikum der Klassenstufe 8
DESCRIPTION:Gutes Gelingen und viel Erfolg beim „Schnuppern von Praxisluft“ sowie tolle Einblicke in interessante Berufsfelder! 
URL:https://www.duden-gymn.de/event/betriebspraktikum-der-klassenstufe-8/
END:VEVENT
BEGIN:VEVENT
DTSTART;TZID=Europe/Berlin:20250311T160000
DTEND;TZID=Europe/Berlin:20250311T180000
DTSTAMP:20260423T052417
CREATED:20250312T104414Z
LAST-MODIFIED:20250312T104414Z
UID:10558-1741708800-1741716000@www.duden-gymn.de
SUMMARY:Schulkonferenz
DESCRIPTION:Die 3. Schulkonferenz dieses Halbjahres findet um 16.00 Uhr im Raum 2-14 statt.
URL:https://www.duden-gymn.de/event/schulkonferenz-3/
END:VEVENT
BEGIN:VEVENT
DTSTART;TZID=Europe/Berlin:20250312T080000
DTEND;TZID=Europe/Berlin:20250312T170000
DTSTAMP:20260423T052417
CREATED:20250312T104620Z
LAST-MODIFIED:20250312T104620Z
UID:10560-1741766400-1741798800@www.duden-gymn.de
SUMMARY:Konzertbesuch "KIDS MEET CLASSIC"
DESCRIPTION:Die Schüler der Klassenstufen 5/6 können sich auf eine tolle musikalische Reise mit der Vogtlandphilharmonie in der Wisentahalle Schleiz freuen. Viel Vergnügen bei den dargebotenen musikalischen Beiträgen in einem bunten und verständlich geführten Programm!
URL:https://www.duden-gymn.de/event/konzertbesuch-kids-meet-classic/
END:VEVENT
BEGIN:VEVENT
DTSTART;VALUE=DATE:20250317
DTEND;VALUE=DATE:20250323
DTSTAMP:20260423T052417
CREATED:20250312T104843Z
LAST-MODIFIED:20250312T104843Z
UID:10562-1742169600-1742687999@www.duden-gymn.de
SUMMARY:Besuch der Partnerschule aus Rueil Malmaison (F)
DESCRIPTION:Sehr herzlich heißen wir die französischen Gäste unserer Partnerschule willkommen und freuen uns schon darauf\, sie in unseren Gastfamilien begrüßen zu dürfen. Wir sind gespannt darauf\, wie ihnen unsere Schule und die vielen Sehenswürdigkeiten unserer Umgebung gefallen werden.
URL:https://www.duden-gymn.de/event/besuch-der-partnerschule-aus-rueil-malmaison-f/
END:VEVENT
BEGIN:VEVENT
DTSTART;TZID=Europe/Berlin:20250319T075000
DTEND;TZID=Europe/Berlin:20250319T151500
DTSTAMP:20260423T052417
CREATED:20250312T105408Z
LAST-MODIFIED:20250312T105408Z
UID:10564-1742370600-1742397300@www.duden-gymn.de
SUMMARY:BILI-Projekt der Klassen 10
DESCRIPTION:Geschichtsfans aufgepasst! Beim BILI-Projekt in Klasse 10 Geschichte erwartet euch eine einzigartige Mischung aus Sprache und Historie. Im bilingualen Projekt verbessert ihr euere Sprachkenntnisse und entwickelt gleichzeitig neue Perspektiven auf historische Ereignisse!
URL:https://www.duden-gymn.de/event/bili-projekt-der-klassen-10/
END:VEVENT
BEGIN:VEVENT
DTSTART;VALUE=DATE:20250320
DTEND;VALUE=DATE:20250321
DTSTAMP:20260423T052417
CREATED:20250312T105742Z
LAST-MODIFIED:20250312T105742Z
UID:10566-1742428800-1742515199@www.duden-gymn.de
SUMMARY:Mathematik-Wettbewerb "Känguru"
DESCRIPTION:Mathematik mal anders! Der Känguru-Wettbewerb bietet Schülerinnen und Schülern der Klassen 5 und 6 die Gelegenheit\, ihr Mathematik-Talent unter Beweis zu stellen. Freut euch auf knifflige\, aber lehrreiche Aufgaben\, die euren Spaß an Zahlen und Logik garantiert wecken werden. Seid gespannt – wir wünschen euch beste Erfolge!
URL:https://www.duden-gymn.de/event/mathematik-wettbewerb-kaenguru/
END:VEVENT
BEGIN:VEVENT
DTSTART;VALUE=DATE:20250327
DTEND;VALUE=DATE:20250328
DTSTAMP:20260423T052417
CREATED:20250312T110243Z
LAST-MODIFIED:20250312T110243Z
UID:10568-1743033600-1743119999@www.duden-gymn.de
SUMMARY:Berufsmesse in Bad Lobenstein
DESCRIPTION:Der Rotary-Club Schleiz lädt alle Schüler der Klassenstufen 9 und 10 nach Bad Lobenstein zu einer ganz besonderen Berufsmesse ein. Auf die Teilnehmer warten prominente Vertreter ihrer Berufsgruppe\, die aus ihrem Berufsalltag berichten und sehr gern für Fragen und Auskünfte zur Verfügung stehen.
URL:https://www.duden-gymn.de/event/berufsmesse-in-bad-lobenstein/
END:VEVENT
BEGIN:VEVENT
DTSTART;VALUE=DATE:20250327
DTEND;VALUE=DATE:20250328
DTSTAMP:20260423T052417
CREATED:20250312T110834Z
LAST-MODIFIED:20250312T110848Z
UID:10570-1743033600-1743119999@www.duden-gymn.de
SUMMARY:Exkursion zur Buchmesse in Leipzig
DESCRIPTION:Die Schüler der Klasse 11 dürfen sich auf einen spannenden Ausflug zur Leipziger Buchmesse freuen. Wir wünschen viel Spaß beim Eintauchen in die vielfältige Welt der Literatur\, beim Entdecken neue Lieblingsautoren und unzähliger Leseinspirationen!
URL:https://www.duden-gymn.de/event/exkursion-zur-buchmesse-in-leipzig/
END:VEVENT
END:VCALENDAR