BEGIN:VCALENDAR
VERSION:2.0
PRODID:-//DEIN TRADITIONSGYMNASIUM - ECPv6.15.17//NONSGML v1.0//EN
CALSCALE:GREGORIAN
METHOD:PUBLISH
X-ORIGINAL-URL:https://www.duden-gymn.de
X-WR-CALDESC:Veranstaltungen für DEIN TRADITIONSGYMNASIUM
REFRESH-INTERVAL;VALUE=DURATION:PT1H
X-Robots-Tag:noindex
X-PUBLISHED-TTL:PT1H
BEGIN:VTIMEZONE
TZID:Europe/Berlin
BEGIN:DAYLIGHT
TZOFFSETFROM:+0100
TZOFFSETTO:+0200
TZNAME:CEST
DTSTART:20240331T010000
END:DAYLIGHT
BEGIN:STANDARD
TZOFFSETFROM:+0200
TZOFFSETTO:+0100
TZNAME:CET
DTSTART:20241027T010000
END:STANDARD
BEGIN:DAYLIGHT
TZOFFSETFROM:+0100
TZOFFSETTO:+0200
TZNAME:CEST
DTSTART:20250330T010000
END:DAYLIGHT
BEGIN:STANDARD
TZOFFSETFROM:+0200
TZOFFSETTO:+0100
TZNAME:CET
DTSTART:20251026T010000
END:STANDARD
BEGIN:DAYLIGHT
TZOFFSETFROM:+0100
TZOFFSETTO:+0200
TZNAME:CEST
DTSTART:20260329T010000
END:DAYLIGHT
BEGIN:STANDARD
TZOFFSETFROM:+0200
TZOFFSETTO:+0100
TZNAME:CET
DTSTART:20261025T010000
END:STANDARD
END:VTIMEZONE
BEGIN:VEVENT
DTSTART;VALUE=DATE:20250203
DTEND;VALUE=DATE:20250209
DTSTAMP:20260425T121748
CREATED:20240724T183006Z
LAST-MODIFIED:20240724T183006Z
UID:9911-1738540800-1739059199@www.duden-gymn.de
SUMMARY:Winterferien
DESCRIPTION:Wir wünschen allen Schülerinnen und Schülern schneesichere und sportliche Winterferien!
URL:https://www.duden-gymn.de/event/winterferien/
END:VEVENT
BEGIN:VEVENT
DTSTART;VALUE=DATE:20250212
DTEND;VALUE=DATE:20250213
DTSTAMP:20260425T121748
CREATED:20250127T102708Z
LAST-MODIFIED:20250127T102708Z
UID:10431-1739318400-1739404799@www.duden-gymn.de
SUMMARY:Info-Veranstaltung TKMS (DSD)
DESCRIPTION:
URL:https://www.duden-gymn.de/event/info-veranstaltung-tkms-dsd/
END:VEVENT
BEGIN:VEVENT
DTSTART;VALUE=DATE:20250218
DTEND;VALUE=DATE:20250219
DTSTAMP:20260425T121748
CREATED:20250127T103327Z
LAST-MODIFIED:20250127T103327Z
UID:10433-1739836800-1739923199@www.duden-gymn.de
SUMMARY:Kompetenztest Englisch Klasse 8
DESCRIPTION:Der Kompetenztest findet ab dem 18.02. im Englischunterricht statt.
URL:https://www.duden-gymn.de/event/kompetenztest-englisch-klasse-8/
END:VEVENT
BEGIN:VEVENT
DTSTART;VALUE=DATE:20250220
DTEND;VALUE=DATE:20250221
DTSTAMP:20260425T121748
CREATED:20250127T103442Z
LAST-MODIFIED:20250127T103442Z
UID:10435-1740009600-1740095999@www.duden-gymn.de
SUMMARY:Kompetenztest Mathematik Klasse 8
DESCRIPTION:Der Kompetenztest findet ab dem 20.02. im Mathematikunterricht statt.
URL:https://www.duden-gymn.de/event/kompetenztest-mathematik-klasse-8/
END:VEVENT
BEGIN:VEVENT
DTSTART;VALUE=DATE:20250221
DTEND;VALUE=DATE:20250223
DTSTAMP:20260425T121748
CREATED:20250127T104513Z
LAST-MODIFIED:20250127T104554Z
UID:10437-1740096000-1740268799@www.duden-gymn.de
SUMMARY:Mathematikolympiade Stufe 3
DESCRIPTION:
URL:https://www.duden-gymn.de/event/mathematikolympiade-stufe-3/
END:VEVENT
BEGIN:VEVENT
DTSTART;TZID=Europe/Berlin:20250222T090000
DTEND;TZID=Europe/Berlin:20250222T110000
DTSTAMP:20260425T121748
CREATED:20241216T125427Z
LAST-MODIFIED:20241216T145451Z
UID:10313-1740214800-1740222000@www.duden-gymn.de
SUMMARY:Willkommen zum Schnuppertag 2025
DESCRIPTION:Liebe Schülerinnen und Schüler\, sehr geehrte Eltern\, \nwir laden Sie herzlich ein\, unser Gymnasium kennenzulernen! Entdecken Sie unsere modernen Unterrichtsräume\, lernen Sie unsere engagierten Lehrkräfte kennen und erfahren Sie mehr über unser vielfältiges Bildungsangebot. \nWann: 22.02.2025\nWo: Gymnasium Schleiz\, Hofer Straße 10\nUhrzeit: 9.00 – 11.00 Uhr \nWir bitten alle Interessierten\, Buntstifte\, Schere und Turnschuhe mitzubringen\, um an den vielen Mitmach-Angeboten teilzunehmen. \nFreuen Sie sich auf spannende Einblicke in unseren Schulalltag und erleben Sie die besondere Atmosphäre unserer Schule. Wir heißen Sie gern an unserer Schule willkommen!\nIhr Team des Gymnasiums Schleiz
URL:https://www.duden-gymn.de/event/schnuppertag-an-unserer-schule/
END:VEVENT
BEGIN:VEVENT
DTSTART;VALUE=DATE:20250225
DTEND;VALUE=DATE:20250226
DTSTAMP:20260425T121748
CREATED:20250127T105339Z
LAST-MODIFIED:20250127T105339Z
UID:10439-1740441600-1740527999@www.duden-gymn.de
SUMMARY:Kompetenztest Mathematik 6
DESCRIPTION:Findet ab dem 25.02.2025 im Mathematikunterricht statt. 
URL:https://www.duden-gymn.de/event/kompetenztest-mathematik-6/
END:VEVENT
BEGIN:VEVENT
DTSTART;TZID=Europe/Berlin:20250227T180000
DTEND;TZID=Europe/Berlin:20250227T200000
DTSTAMP:20260425T121748
CREATED:20250127T105633Z
LAST-MODIFIED:20250127T111004Z
UID:10444-1740679200-1740686400@www.duden-gymn.de
SUMMARY:Präsentation von Seminarfacharbeiten "Was Sie schon immer wissen wollten..."
DESCRIPTION:
URL:https://www.duden-gymn.de/event/praesentation-von-seminarfacharbeiten-was-sie-schon-immer-wissen-wollten/
END:VEVENT
END:VCALENDAR