BEGIN:VCALENDAR
VERSION:2.0
PRODID:-//DEIN TRADITIONSGYMNASIUM - ECPv6.15.17//NONSGML v1.0//EN
CALSCALE:GREGORIAN
METHOD:PUBLISH
X-ORIGINAL-URL:https://www.duden-gymn.de
X-WR-CALDESC:Veranstaltungen für DEIN TRADITIONSGYMNASIUM
REFRESH-INTERVAL;VALUE=DURATION:PT1H
X-Robots-Tag:noindex
X-PUBLISHED-TTL:PT1H
BEGIN:VTIMEZONE
TZID:Europe/Berlin
BEGIN:DAYLIGHT
TZOFFSETFROM:+0100
TZOFFSETTO:+0200
TZNAME:CEST
DTSTART:20230326T010000
END:DAYLIGHT
BEGIN:STANDARD
TZOFFSETFROM:+0200
TZOFFSETTO:+0100
TZNAME:CET
DTSTART:20231029T010000
END:STANDARD
BEGIN:DAYLIGHT
TZOFFSETFROM:+0100
TZOFFSETTO:+0200
TZNAME:CEST
DTSTART:20240331T010000
END:DAYLIGHT
BEGIN:STANDARD
TZOFFSETFROM:+0200
TZOFFSETTO:+0100
TZNAME:CET
DTSTART:20241027T010000
END:STANDARD
BEGIN:DAYLIGHT
TZOFFSETFROM:+0100
TZOFFSETTO:+0200
TZNAME:CEST
DTSTART:20250330T010000
END:DAYLIGHT
BEGIN:STANDARD
TZOFFSETFROM:+0200
TZOFFSETTO:+0100
TZNAME:CET
DTSTART:20251026T010000
END:STANDARD
BEGIN:DAYLIGHT
TZOFFSETFROM:+0100
TZOFFSETTO:+0200
TZNAME:CEST
DTSTART:20260329T010000
END:DAYLIGHT
BEGIN:STANDARD
TZOFFSETFROM:+0200
TZOFFSETTO:+0100
TZNAME:CET
DTSTART:20261025T010000
END:STANDARD
END:VTIMEZONE
BEGIN:VEVENT
DTSTART;VALUE=DATE:20241223
DTEND;VALUE=DATE:20250104
DTSTAMP:20260425T134625
CREATED:20240724T182427Z
LAST-MODIFIED:20240724T182427Z
UID:9907-1734912000-1735948799@www.duden-gymn.de
SUMMARY:Weihnachtsferien
DESCRIPTION:Wir wünschen allen Schülerinnen und Schülern friedliche und fröhliche Weihnachtsfeiertage!
URL:https://www.duden-gymn.de/event/weihnachtsferien/
END:VEVENT
BEGIN:VEVENT
DTSTART;TZID=Europe/Berlin:20250127T080000
DTEND;TZID=Europe/Berlin:20250127T170000
DTSTAMP:20260425T134625
CREATED:20250127T102515Z
LAST-MODIFIED:20250127T102515Z
UID:10429-1737964800-1737997200@www.duden-gymn.de
SUMMARY:Kinobesuch "Nacoa" Klasse 8
DESCRIPTION:Nachbereitung Kinobesuch Klasse 8a-c am 12.02.2025
URL:https://www.duden-gymn.de/event/kinobesuch-nacoa-klasse-8/
END:VEVENT
BEGIN:VEVENT
DTSTART;TZID=Europe/Berlin:20250127T080000
DTEND;TZID=Europe/Berlin:20250127T170000
DTSTAMP:20260425T134625
CREATED:20250127T105504Z
LAST-MODIFIED:20250127T105520Z
UID:10441-1737964800-1737997200@www.duden-gymn.de
SUMMARY:Kompetenztest Deutsch Klasse 8
DESCRIPTION:Findet ab dem 26.02. im Deutschunterricht statt.
URL:https://www.duden-gymn.de/event/konpetenztest-deutsch-klasse-8/
END:VEVENT
BEGIN:VEVENT
DTSTART;TZID=Europe/Berlin:20250128T094500
DTEND;TZID=Europe/Berlin:20250128T132500
DTSTAMP:20260425T134625
CREATED:20250127T102348Z
LAST-MODIFIED:20250127T102348Z
UID:10427-1738057500-1738070700@www.duden-gymn.de
SUMMARY:Projekt "Jugendschutzparcour" Klasse 7b
DESCRIPTION:
URL:https://www.duden-gymn.de/event/projekt-jugendschutzparcour-klasse-7b/
END:VEVENT
BEGIN:VEVENT
DTSTART;TZID=Europe/Berlin:20250131T124000
DTEND;TZID=Europe/Berlin:20250131T132500
DTSTAMP:20260425T134625
CREATED:20250127T102147Z
LAST-MODIFIED:20250127T102218Z
UID:10425-1738327200-1738329900@www.duden-gymn.de
SUMMARY:Zeugnisausgabe Halbjahr 2024/25
DESCRIPTION:Unterrichtsschluss für Klassen und Kurse 5-10 und A26: 13.25 Uhr
URL:https://www.duden-gymn.de/event/zeugnisausgabe-halbjahr-2024-25/
END:VEVENT
END:VCALENDAR