BEGIN:VCALENDAR
VERSION:2.0
PRODID:-//DEIN TRADITIONSGYMNASIUM - ECPv6.15.17//NONSGML v1.0//EN
CALSCALE:GREGORIAN
METHOD:PUBLISH
X-ORIGINAL-URL:https://www.duden-gymn.de
X-WR-CALDESC:Veranstaltungen für DEIN TRADITIONSGYMNASIUM
REFRESH-INTERVAL;VALUE=DURATION:PT1H
X-Robots-Tag:noindex
X-PUBLISHED-TTL:PT1H
BEGIN:VTIMEZONE
TZID:Europe/Berlin
BEGIN:DAYLIGHT
TZOFFSETFROM:+0100
TZOFFSETTO:+0200
TZNAME:CEST
DTSTART:20250330T010000
END:DAYLIGHT
BEGIN:STANDARD
TZOFFSETFROM:+0200
TZOFFSETTO:+0100
TZNAME:CET
DTSTART:20251026T010000
END:STANDARD
BEGIN:DAYLIGHT
TZOFFSETFROM:+0100
TZOFFSETTO:+0200
TZNAME:CEST
DTSTART:20260329T010000
END:DAYLIGHT
BEGIN:STANDARD
TZOFFSETFROM:+0200
TZOFFSETTO:+0100
TZNAME:CET
DTSTART:20261025T010000
END:STANDARD
BEGIN:DAYLIGHT
TZOFFSETFROM:+0100
TZOFFSETTO:+0200
TZNAME:CEST
DTSTART:20270328T010000
END:DAYLIGHT
BEGIN:STANDARD
TZOFFSETFROM:+0200
TZOFFSETTO:+0100
TZNAME:CET
DTSTART:20271031T010000
END:STANDARD
END:VTIMEZONE
BEGIN:VEVENT
DTSTART;TZID=Europe/Berlin:20260122T080000
DTEND;TZID=Europe/Berlin:20260122T110000
DTSTAMP:20260420T192414
CREATED:20260127T094358Z
LAST-MODIFIED:20260127T094358Z
UID:11178-1769068800-1769079600@www.duden-gymn.de
SUMMARY:Bundeswettbewerb Fremdsprachen: Klausurtermine Englisch/Französisch
DESCRIPTION:
URL:https://www.duden-gymn.de/event/bundeswettbewerb-fremdsprachen-klausurtermine-englisch-franzoesisch/
END:VEVENT
END:VCALENDAR