BEGIN:VCALENDAR
VERSION:2.0
PRODID:-//DEIN TRADITIONSGYMNASIUM - ECPv6.15.17//NONSGML v1.0//EN
CALSCALE:GREGORIAN
METHOD:PUBLISH
X-ORIGINAL-URL:https://www.duden-gymn.de
X-WR-CALDESC:Veranstaltungen für DEIN TRADITIONSGYMNASIUM
REFRESH-INTERVAL;VALUE=DURATION:PT1H
X-Robots-Tag:noindex
X-PUBLISHED-TTL:PT1H
BEGIN:VTIMEZONE
TZID:Europe/Berlin
BEGIN:DAYLIGHT
TZOFFSETFROM:+0100
TZOFFSETTO:+0200
TZNAME:CEST
DTSTART:20240331T010000
END:DAYLIGHT
BEGIN:STANDARD
TZOFFSETFROM:+0200
TZOFFSETTO:+0100
TZNAME:CET
DTSTART:20241027T010000
END:STANDARD
BEGIN:DAYLIGHT
TZOFFSETFROM:+0100
TZOFFSETTO:+0200
TZNAME:CEST
DTSTART:20250330T010000
END:DAYLIGHT
BEGIN:STANDARD
TZOFFSETFROM:+0200
TZOFFSETTO:+0100
TZNAME:CET
DTSTART:20251026T010000
END:STANDARD
BEGIN:DAYLIGHT
TZOFFSETFROM:+0100
TZOFFSETTO:+0200
TZNAME:CEST
DTSTART:20260329T010000
END:DAYLIGHT
BEGIN:STANDARD
TZOFFSETFROM:+0200
TZOFFSETTO:+0100
TZNAME:CET
DTSTART:20261025T010000
END:STANDARD
END:VTIMEZONE
BEGIN:VEVENT
DTSTART;VALUE=DATE:20250917
DTEND;VALUE=DATE:20250918
DTSTAMP:20260421T015508
CREATED:20250917T192045Z
LAST-MODIFIED:20250917T192045Z
UID:11121-1758067200-1758153599@www.duden-gymn.de
SUMMARY:Sportfest Leichtathletik Klasse 5-10
DESCRIPTION:
URL:https://www.duden-gymn.de/event/sportfest-leichtathletik-klasse-5-10/
END:VEVENT
BEGIN:VEVENT
DTSTART;TZID=Europe/Berlin:20250917T080000
DTEND;TZID=Europe/Berlin:20250917T170000
DTSTAMP:20260421T015508
CREATED:20250917T194115Z
LAST-MODIFIED:20250917T194115Z
UID:11125-1758096000-1758128400@www.duden-gymn.de
SUMMARY:Auswertung der Potenzialanalyse der Handwerkskammer (Kl. 9)
DESCRIPTION:
URL:https://www.duden-gymn.de/event/auswertung-der-potenzialanalyse-der-handwerkskammer-kl-9/
END:VEVENT
BEGIN:VEVENT
DTSTART;TZID=Europe/Berlin:20250917T080000
DTEND;TZID=Europe/Berlin:20250917T170000
DTSTAMP:20260421T015508
CREATED:20250917T194337Z
LAST-MODIFIED:20250917T194337Z
UID:11131-1758096000-1758128400@www.duden-gymn.de
SUMMARY:Exkursion "Planetarium" - Ausstellung in Oettersdorf (Kl. 5)
DESCRIPTION:
URL:https://www.duden-gymn.de/event/exkursion-planetarium-ausstellung-in-oettersdorf-kl-5/
END:VEVENT
END:VCALENDAR