BEGIN:VCALENDAR
VERSION:2.0
PRODID:-//DEIN TRADITIONSGYMNASIUM - ECPv6.15.17//NONSGML v1.0//EN
CALSCALE:GREGORIAN
METHOD:PUBLISH
X-ORIGINAL-URL:https://www.duden-gymn.de
X-WR-CALDESC:Veranstaltungen für DEIN TRADITIONSGYMNASIUM
REFRESH-INTERVAL;VALUE=DURATION:PT1H
X-Robots-Tag:noindex
X-PUBLISHED-TTL:PT1H
BEGIN:VTIMEZONE
TZID:Europe/Berlin
BEGIN:DAYLIGHT
TZOFFSETFROM:+0100
TZOFFSETTO:+0200
TZNAME:CEST
DTSTART:20240331T010000
END:DAYLIGHT
BEGIN:STANDARD
TZOFFSETFROM:+0200
TZOFFSETTO:+0100
TZNAME:CET
DTSTART:20241027T010000
END:STANDARD
BEGIN:DAYLIGHT
TZOFFSETFROM:+0100
TZOFFSETTO:+0200
TZNAME:CEST
DTSTART:20250330T010000
END:DAYLIGHT
BEGIN:STANDARD
TZOFFSETFROM:+0200
TZOFFSETTO:+0100
TZNAME:CET
DTSTART:20251026T010000
END:STANDARD
BEGIN:DAYLIGHT
TZOFFSETFROM:+0100
TZOFFSETTO:+0200
TZNAME:CEST
DTSTART:20260329T010000
END:DAYLIGHT
BEGIN:STANDARD
TZOFFSETFROM:+0200
TZOFFSETTO:+0100
TZNAME:CET
DTSTART:20261025T010000
END:STANDARD
END:VTIMEZONE
BEGIN:VEVENT
DTSTART;VALUE=DATE:20250616
DTEND;VALUE=DATE:20250627
DTSTAMP:20260423T023027
CREATED:20250527T090156Z
LAST-MODIFIED:20250527T090907Z
UID:11042-1750032000-1750982399@www.duden-gymn.de
SUMMARY:Betriebspraktikum Klasse 9 (2. Woche)
DESCRIPTION:
URL:https://www.duden-gymn.de/event/betriebspraktikum-klasse-9-2-woche/
END:VEVENT
BEGIN:VEVENT
DTSTART;VALUE=DATE:20250623
DTEND;VALUE=DATE:20250624
DTSTAMP:20260423T023027
CREATED:20250527T091047Z
LAST-MODIFIED:20250527T091047Z
UID:11047-1750636800-1750723199@www.duden-gymn.de
SUMMARY:Projekt "Potenzialanalyse" der Klassen 8b/c HKR/ZR
DESCRIPTION:
URL:https://www.duden-gymn.de/event/projekt-potenzialanalyse-der-klassen-8b-c-hkr-zr/
END:VEVENT
BEGIN:VEVENT
DTSTART;VALUE=DATE:20250623
DTEND;VALUE=DATE:20250627
DTSTAMP:20260423T023027
CREATED:20250527T091821Z
LAST-MODIFIED:20250527T091902Z
UID:11055-1750636800-1750982399@www.duden-gymn.de
SUMMARY:Klassenfahrt Klasse 8a
DESCRIPTION:Eine tolle Klassenfahrt wünschen wir der 8a!
URL:https://www.duden-gymn.de/event/klassenfahrt-klasse-8a/
END:VEVENT
END:VCALENDAR