BEGIN:VCALENDAR
VERSION:2.0
PRODID:-//DEIN TRADITIONSGYMNASIUM - ECPv6.15.17//NONSGML v1.0//EN
CALSCALE:GREGORIAN
METHOD:PUBLISH
X-ORIGINAL-URL:https://www.duden-gymn.de
X-WR-CALDESC:Veranstaltungen für DEIN TRADITIONSGYMNASIUM
REFRESH-INTERVAL;VALUE=DURATION:PT1H
X-Robots-Tag:noindex
X-PUBLISHED-TTL:PT1H
BEGIN:VTIMEZONE
TZID:Europe/Berlin
BEGIN:DAYLIGHT
TZOFFSETFROM:+0100
TZOFFSETTO:+0200
TZNAME:CEST
DTSTART:20240331T010000
END:DAYLIGHT
BEGIN:STANDARD
TZOFFSETFROM:+0200
TZOFFSETTO:+0100
TZNAME:CET
DTSTART:20241027T010000
END:STANDARD
BEGIN:DAYLIGHT
TZOFFSETFROM:+0100
TZOFFSETTO:+0200
TZNAME:CEST
DTSTART:20250330T010000
END:DAYLIGHT
BEGIN:STANDARD
TZOFFSETFROM:+0200
TZOFFSETTO:+0100
TZNAME:CET
DTSTART:20251026T010000
END:STANDARD
BEGIN:DAYLIGHT
TZOFFSETFROM:+0100
TZOFFSETTO:+0200
TZNAME:CEST
DTSTART:20260329T010000
END:DAYLIGHT
BEGIN:STANDARD
TZOFFSETFROM:+0200
TZOFFSETTO:+0100
TZNAME:CET
DTSTART:20261025T010000
END:STANDARD
END:VTIMEZONE
BEGIN:VEVENT
DTSTART;VALUE=DATE:20250610
DTEND;VALUE=DATE:20250614
DTSTAMP:20260423T022956
CREATED:20250526T082453Z
LAST-MODIFIED:20250527T090814Z
UID:11006-1749513600-1749859199@www.duden-gymn.de
SUMMARY:Betriebspraktikum Klasse 9 (1. Woche)
DESCRIPTION:Die Schüler der Klassenstufe 9 absolvieren ihr Betriebspraktikum. Viel Erfolg und gutes Gelingen!
URL:https://www.duden-gymn.de/event/betriebspraktikum-klasse-9/
END:VEVENT
BEGIN:VEVENT
DTSTART;VALUE=DATE:20250615
DTEND;VALUE=DATE:20250621
DTSTAMP:20260423T022956
CREATED:20250527T083329Z
LAST-MODIFIED:20250527T083329Z
UID:11013-1749945600-1750463999@www.duden-gymn.de
SUMMARY:Klassenfahrt der Klassen 10a und 10c
DESCRIPTION:Wir wünschen den Klassen 10a und 10c eine fröhliche Klassenfahrt!
URL:https://www.duden-gymn.de/event/klassenfahrt-der-klassen-10a-und-10c/
END:VEVENT
BEGIN:VEVENT
DTSTART;VALUE=DATE:20250616
DTEND;VALUE=DATE:20250617
DTSTAMP:20260423T022956
CREATED:20250527T083154Z
LAST-MODIFIED:20250527T083154Z
UID:11011-1750032000-1750118399@www.duden-gymn.de
SUMMARY:Mitteilung der Ergebnisse des schriftlichen Abiturs und Abgabe der restlichen Lehrbücher
DESCRIPTION:Wir laden alle Abiturientinnen und Abiturienten herzlich ein\, an diesem Termin die Ergebnisse des schriftlichen Abiturs in Empfang zu nehmen. Gleichzeitig erfolgt die Abgabe der restlichen Lehrbücher. Bitte bringen Sie alle ausstehenden Bücher mit. \nWir freuen uns auf Ihr Kommen!
URL:https://www.duden-gymn.de/event/mitteilung-der-ergebnisse-des-schriftlichen-abiturs-und-abgabe-der-restlichen-lehrbuecher/
END:VEVENT
BEGIN:VEVENT
DTSTART;VALUE=DATE:20250616
DTEND;VALUE=DATE:20250621
DTSTAMP:20260423T022956
CREATED:20250527T083436Z
LAST-MODIFIED:20250527T083559Z
UID:11015-1750032000-1750463999@www.duden-gymn.de
SUMMARY:Klassenfahrt 8c
DESCRIPTION:Wir wünschen der Klasse 8c eine erlebnisreiche Klassenfahrt!
URL:https://www.duden-gymn.de/event/klassenfahrt-8c/
END:VEVENT
BEGIN:VEVENT
DTSTART;VALUE=DATE:20250616
DTEND;VALUE=DATE:20250627
DTSTAMP:20260423T022956
CREATED:20250527T090156Z
LAST-MODIFIED:20250527T090907Z
UID:11042-1750032000-1750982399@www.duden-gymn.de
SUMMARY:Betriebspraktikum Klasse 9 (2. Woche)
DESCRIPTION:
URL:https://www.duden-gymn.de/event/betriebspraktikum-klasse-9-2-woche/
END:VEVENT
END:VCALENDAR