BEGIN:VCALENDAR
VERSION:2.0
PRODID:-//DEIN TRADITIONSGYMNASIUM - ECPv6.15.17//NONSGML v1.0//EN
CALSCALE:GREGORIAN
METHOD:PUBLISH
X-WR-CALNAME:DEIN TRADITIONSGYMNASIUM
X-ORIGINAL-URL:https://www.duden-gymn.de
X-WR-CALDESC:Veranstaltungen für DEIN TRADITIONSGYMNASIUM
REFRESH-INTERVAL;VALUE=DURATION:PT1H
X-Robots-Tag:noindex
X-PUBLISHED-TTL:PT1H
BEGIN:VTIMEZONE
TZID:Europe/Berlin
BEGIN:DAYLIGHT
TZOFFSETFROM:+0100
TZOFFSETTO:+0200
TZNAME:CEST
DTSTART:20240331T010000
END:DAYLIGHT
BEGIN:STANDARD
TZOFFSETFROM:+0200
TZOFFSETTO:+0100
TZNAME:CET
DTSTART:20241027T010000
END:STANDARD
BEGIN:DAYLIGHT
TZOFFSETFROM:+0100
TZOFFSETTO:+0200
TZNAME:CEST
DTSTART:20250330T010000
END:DAYLIGHT
BEGIN:STANDARD
TZOFFSETFROM:+0200
TZOFFSETTO:+0100
TZNAME:CET
DTSTART:20251026T010000
END:STANDARD
BEGIN:DAYLIGHT
TZOFFSETFROM:+0100
TZOFFSETTO:+0200
TZNAME:CEST
DTSTART:20260329T010000
END:DAYLIGHT
BEGIN:STANDARD
TZOFFSETFROM:+0200
TZOFFSETTO:+0100
TZNAME:CET
DTSTART:20261025T010000
END:STANDARD
END:VTIMEZONE
BEGIN:VEVENT
DTSTART;TZID=Europe/Berlin:20250403T180000
DTEND;TZID=Europe/Berlin:20250403T200000
DTSTAMP:20260423T052421
CREATED:20250312T111144Z
LAST-MODIFIED:20250312T111218Z
UID:10572-1743703200-1743710400@www.duden-gymn.de
SUMMARY:Frühlingskonzert des Gymnasiums
DESCRIPTION:Musikalischer Frühling im Gymnasium Schleiz: am 3. April 2025 laden unsere talentierten Chöre\, Solisten\, Quartette und Instrumentalisten um 18 Uhr in die Stadtkirche Schleiz ein. Lassen Sie sich von den stimmungsvollen Darbietungen verzaubern und genießen Sie einen Abend voller Melodien und Harmonie. Seien Sie dabei\, wenn unsere Sängerinnen und Sänger ihr Können auf der Bühne präsentieren! Ein musikalisches Highlight\, das Sie nicht verpassen sollten.
URL:https://www.duden-gymn.de/event/fruehlingskonzert-des-gymnasiums/
END:VEVENT
END:VCALENDAR